BEGIN:VCALENDAR
VERSION:2.0
PRODID:-//DIOCESI DI ROMA - ECPv4.6.14.1//NONSGML v1.0//EN
CALSCALE:GREGORIAN
METHOD:PUBLISH
X-WR-CALNAME:DIOCESI DI ROMA
X-ORIGINAL-URL:https://www.diocesidiroma.it
X-WR-CALDESC:Eventi per DIOCESI DI ROMA
BEGIN:VEVENT
DTSTART;VALUE=DATE:20250315
DTEND;VALUE=DATE:20250316
DTSTAMP:20260424T164233
CREATED:20250211T150915Z
LAST-MODIFIED:20250211T150915Z
UID:33887-1741996800-1742083199@www.diocesidiroma.it
SUMMARY:Giubileo dei Ministranti di Roma
DESCRIPTION:GIUBILEO MINISTRANTI DI ROMA \nPROGRAMMA \nOre 15:30 Appuntamento nella Chiesa di Santa Croce in Gerusalemme \nOre 15:45 Processione + Porta Santa San Giovanni in Laterano \nOre 17:30 Santa Messa nella Cappella del Seminario Maggiore \n(possibilità di confessioni) \nOre 18:30 Breve momento di fraternità \nPer iscriversi basta mandare un’email a seminario.minore@diocesidiroma.it entro giovedì 13 marzo o telefonare al numero 3287635000. \n  \n  \n  \nu \n
URL:https://www.diocesidiroma.it/event/giubileo-dei-ministranti-di-roma/
CATEGORIES:Iniziative Giubileo 25
END:VEVENT
END:VCALENDAR