BEGIN:VCALENDAR
VERSION:2.0
PRODID:-//DIOCESI DI ROMA - ECPv4.6.14.1//NONSGML v1.0//EN
CALSCALE:GREGORIAN
METHOD:PUBLISH
X-WR-CALNAME:DIOCESI DI ROMA
X-ORIGINAL-URL:https://www.diocesidiroma.it
X-WR-CALDESC:Eventi per DIOCESI DI ROMA
BEGIN:VEVENT
DTSTART;VALUE=DATE:20250607
DTEND;VALUE=DATE:20250609
DTSTAMP:20260424T033858
CREATED:20250211T082603Z
LAST-MODIFIED:20251016T081059Z
UID:33848-1749254400-1749427199@www.diocesidiroma.it
SUMMARY:Giubileo dei Movimenti\, delle Associazioni e delle Nuove Comunità
DESCRIPTION:\n\n\n\n\n\n\n\n\n\n\n\n\n\n\n\n\n\n\n\n\n\n\n\n  \n\nL’ingresso in Piazza S. Pietro\, in occasione della S. Messa presieduta dal Santo Padre\, è totalmente gratuito e non richiede alcun tipo di biglietto. \nI Vescovi e i Presbiteri che desiderano concelebrare\, e i Diaconi che vorranno partecipare\, dovranno prenotarsi presso l’Ufficio delle Celebrazioni Liturgiche del Sommo Pontefice tramite il seguente link: https://biglietti.liturgiepontificie.va/ . Le iscrizioni inizieranno solo dopo la pubblicazione ufficiale del calendario delle celebrazioni presiedute dal Santo Padre. \n\n\n\n\n\n  \n
URL:https://www.diocesidiroma.it/event/giubileo-dei-movimenti-delle-associazioni-e-delle-nuove-comunita/
CATEGORIES:Iniziative Giubileo 25
END:VEVENT
END:VCALENDAR