BEGIN:VCALENDAR
VERSION:2.0
PRODID:-//DIOCESI DI ROMA - ECPv4.6.14.1//NONSGML v1.0//EN
CALSCALE:GREGORIAN
METHOD:PUBLISH
X-WR-CALNAME:DIOCESI DI ROMA
X-ORIGINAL-URL:https://www.diocesidiroma.it
X-WR-CALDESC:Eventi per DIOCESI DI ROMA
BEGIN:VEVENT
DTSTART;VALUE=DATE:20251115
DTEND;VALUE=DATE:20251117
DTSTAMP:20260422T070231
CREATED:20250211T073048Z
LAST-MODIFIED:20251015T065923Z
UID:33813-1763164800-1763337599@www.diocesidiroma.it
SUMMARY:Giubileo dei Poveri
DESCRIPTION: \n  \n  \n
URL:https://www.diocesidiroma.it/event/giubileo-dei-poveri/
CATEGORIES:Iniziative Giubileo 25
END:VEVENT
END:VCALENDAR