BEGIN:VCALENDAR
VERSION:2.0
PRODID:-//DIOCESI DI ROMA - ECPv4.6.14.1//NONSGML v1.0//EN
CALSCALE:GREGORIAN
METHOD:PUBLISH
X-WR-CALNAME:DIOCESI DI ROMA
X-ORIGINAL-URL:https://www.diocesidiroma.it
X-WR-CALDESC:Eventi per DIOCESI DI ROMA
BEGIN:VEVENT
DTSTART;VALUE=DATE:20251018
DTEND;VALUE=DATE:20251020
DTSTAMP:20260422T193039
CREATED:20250910T105924Z
LAST-MODIFIED:20251015T062401Z
UID:36922-1760745600-1760918399@www.diocesidiroma.it
SUMMARY:Giubileo dei Rom\, Sinti e Camminanti 18-19 ottobre (Uff. Migrantes per la pastorale della mobilità umana e Uff. Caritas)
DESCRIPTION:Giubileo dei Rom\, Sinti e Caminanti 18-19 ottobre (Uff. Migrantes per la pastorale della mobilità umana e Uff. Caritas) \n
URL:https://www.diocesidiroma.it/event/giubileo-dei-rom-sinti-e-caminanti-18-19-ottobre-uff-migrantes-per-la-pastorale-della-mobilita-umana-e-uff-caritas/
CATEGORIES:In Diocesi,Iniziative degli Uffici
END:VEVENT
END:VCALENDAR