BEGIN:VCALENDAR
VERSION:2.0
PRODID:-//DIOCESI DI ROMA - ECPv4.6.14.1//NONSGML v1.0//EN
CALSCALE:GREGORIAN
METHOD:PUBLISH
X-WR-CALNAME:DIOCESI DI ROMA
X-ORIGINAL-URL:https://www.diocesidiroma.it
X-WR-CALDESC:Eventi per DIOCESI DI ROMA
BEGIN:VEVENT
DTSTART;VALUE=DATE:20251018
DTEND;VALUE=DATE:20251019
DTSTAMP:20260423T022735
CREATED:20251015T062656Z
LAST-MODIFIED:20251015T062909Z
UID:37853-1760745600-1760831999@www.diocesidiroma.it
SUMMARY:Giubileo dei Rom\, Sinti e Camminanti
DESCRIPTION: \n18 ottobre 2025 \nGiubileo dei Rom\, Sinti e Camminanti \nBasilica di San Pietro in Vaticano \n  \nPROGRAMMA \nSabato 18 Ottobre \n– h.9.00 – 14.00: Incontro in Aula Paolo VI\, alla presenza del Santo Padre\n– h.14.00 – 18.00: Pellegrinaggio alla Porta Santa della Basilica di S. Pietro \n  \n
URL:https://www.diocesidiroma.it/event/giubileo-dei-rom-sinti-e-camminanti/
CATEGORIES:Iniziative Giubileo 25
END:VEVENT
END:VCALENDAR