BEGIN:VCALENDAR
VERSION:2.0
PRODID:-//DIOCESI DI ROMA - ECPv4.6.14.1//NONSGML v1.0//EN
CALSCALE:GREGORIAN
METHOD:PUBLISH
X-WR-CALNAME:DIOCESI DI ROMA
X-ORIGINAL-URL:https://www.diocesidiroma.it
X-WR-CALDESC:Eventi per DIOCESI DI ROMA
BEGIN:VEVENT
DTSTART;VALUE=DATE:20250124
DTEND;VALUE=DATE:20250127
DTSTAMP:20260425T023911
CREATED:20241203T143150Z
LAST-MODIFIED:20251016T063116Z
UID:32286-1737676800-1737935999@www.diocesidiroma.it
SUMMARY:Giubileo del Mondo della Comunicazione
DESCRIPTION: \nVenerdì 24 gennaio  \n– h.17.30-19.00: Accoglienza e liturgia penitenziale \n– h.19.00: S. Messa internazionale in occasione della festa di S. Francesco di Sales\n• Basilica di S. Giovanni in Laterano\n\nSabato 25 gennaio \n– h.8.00-9.30: Pellegrinaggio alla Porta Santa di S. Pietro \n– h.9.00-10.00: Coffee Break di benvenuto\n• nell’Atrio dell’Aula Paolo VI \n– h.10.00: Incontro culturale “In dialogo con Maria Ressa e Colum McCann”. Modera Mario Calabresi\n• Aula Paolo VI\n• esibizione del Maestro Uto Ughi \n– h.12.30: Incontro con il Santo Padre\n• Aula Paolo VI \n– h.15.00-16.30: Dialogo con la città: meeting di carattere culturale e spirituale \n– “Comunicazione e speranza”\nIncontro di approfondimento con gli speaker intervenuti il sabato mattina in Aula Paolo VI\n• a cura del Dicastero per la Comunicazione / Signis\n• Agostinianum\n• Lingua: inglese con traduzione in spagnolo \n– “Jubilee of Hope. Uniting communicators for a shared journey” (partecipazione solo su invito)\n                • a cura del Dicastero per la Comunicazione / Programma per i giovani comunicatori\n• Lingua: inglese con traduzione in spagnolo \n– “Journalism as a mission\, giving voice to the voiceless in the outskirts of humankind“\n• a cura del Vicariato di Roma\n                • Palazzo Lateranense / Aula Conciliazione\n• Lingua: italiano/inglese \n– “Il Giornalismo a servizio della democrazia”\n                • a cura di Ucsi con Ordine dei Giornalisti\, Fnsi\, Stampa Estera\, Copercom\, Fisc\, Odg \, WeCa\, Constructive Network\n                • Sede dell’Ordine nazionale dei Giornalisti\n• Lingua: italiano \n– “Comunicare speranza e pace”\n                • a cura dell’Ufficio Comunicazioni Sociali CEI\n                • Basilica di Santa Maria in Trastevere\n• Lingua: italiano \n– “Dalla competizione alla collaborazione. \n               New media come vettori di speranza per i giovani in un mondo conflittuale“\n• a cura della Famiglia Paolina\n                • Basilica Regina degli Apostoli alla Montagnola\n• Lingua: italiano \n– “Comment les médias catholiques peuvent-ils être acteurs de paix?“\n• a cura della Fédération des médias catholiques\n                • chiesa di San Luigi dei Francesi\n• Lingua: francese \n– “Raccontare la Chiesa da Roma. Incontro con i vaticanisti”\n                • a cura della Conferenza Episcopale Spagnola\n                • Sala Giubileo della LUMSA (Via di Porta Castello\, 44)\n• Lingua: spagnolo \n\nDomenica 26 gennaio  \n– h.10.00: S. Messa della “Domenica della Parola di Dio” presieduta dal Santo Padre\n• Basilica di S. Pietro \n• con istituzione di alcuni nuovi lettori \nTERMINE DELLE ISCRIZIONI: 24 novembre 2024 \nI Vescovi e i Presbiteri che desiderano concelebrare\, e i Diaconi che vorranno partecipare\, dovranno prenotarsi presso l’Ufficio delle Celebrazioni Liturgiche del Sommo Pontefice tramite il seguente link: https://biglietti.liturgiepontificie.va/ \n
URL:https://www.diocesidiroma.it/event/giubileo-del-mondo-della-comunicazione/
CATEGORIES:Iniziative Giubileo 25
END:VEVENT
END:VCALENDAR