BEGIN:VCALENDAR
VERSION:2.0
PRODID:-//DIOCESI DI ROMA - ECPv4.6.14.1//NONSGML v1.0//EN
CALSCALE:GREGORIAN
METHOD:PUBLISH
X-WR-CALNAME:DIOCESI DI ROMA
X-ORIGINAL-URL:https://www.diocesidiroma.it
X-WR-CALDESC:Eventi per DIOCESI DI ROMA
BEGIN:VEVENT
DTSTART;VALUE=DATE:20250328
DTEND;VALUE=DATE:20250331
DTSTAMP:20260425T023958
CREATED:20250211T073457Z
LAST-MODIFIED:20250513T111745Z
UID:33817-1743120000-1743379199@www.diocesidiroma.it
SUMMARY:Giubileo dei Missionari della Misericordia
DESCRIPTION: \nPROGRAMMA\n \nVenerdì 28 marzo  \n– h.10.00: Preghiera Iniziale \n– h.10.30-11.00: Momento formativo – prima sessione (Aula Paolo VI) \n– h.11.30: Coffee Break \n– h.12.00-12:30: Momento formativo – seconda sessione (Aula Paolo VI) \n– h.16.00-17.00:  Celebrazione delle “24 ore per il Signore” (Basilica di Sant’Andrea della Valle)\n\nSabato 29 marzo \n– h.9.00-11.00: Pellegrinaggio alla Porta Santa di S. Pietro \n– h.12.00: Santo Rosario\n\nDomenica 30 marzo \n– h.10.00: S. Messa (Basilica di Sant’Andrea della Valle) \n– h.16.00: Concerto Sinfonico “Missa Papae Francisci” nella Basilica dei Santi Ambrogio e Carlo al Corso \n  \nTERMINE DELLE ISCRIZIONI: 26 gennaio 2025 \n
URL:https://www.diocesidiroma.it/event/giubileo-del-mondo-missionario/
CATEGORIES:Iniziative Giubileo 25
END:VEVENT
END:VCALENDAR