BEGIN:VCALENDAR
VERSION:2.0
PRODID:-//DIOCESI DI ROMA - ECPv4.6.14.1//NONSGML v1.0//EN
CALSCALE:GREGORIAN
METHOD:PUBLISH
X-WR-CALNAME:DIOCESI DI ROMA
X-ORIGINAL-URL:https://www.diocesidiroma.it
X-WR-CALDESC:Eventi per DIOCESI DI ROMA
BEGIN:VEVENT
DTSTART;VALUE=DATE:20250915
DTEND;VALUE=DATE:20250916
DTSTAMP:20260424T200026
CREATED:20250211T081300Z
LAST-MODIFIED:20251013T102008Z
UID:33831-1757894400-1757980799@www.diocesidiroma.it
SUMMARY:Giubileo della Consolazione
DESCRIPTION: \n  \nA questo evento giubilare sono particolarmente invitati\, insieme ai loro famigliari e amici\, tutti coloro che stanno vivendo un tempo di dolore e afflizione\, per malattie\, lutti\, violenze e abusi subiti. \n  \nPROGRAMMA\n \nLunedì 15 settembre \n– h.8.00-12.00: Pellegrinaggio alla Porta Santa\n• con la possibilità di ricevere il Sacramento della Riconciliazione nelle chiese giubilari \n– h.17.00: “Ridare speranza\, asciugando le lacrime”\n• Veglia di preghiera con il Santo Padre (Basilica di S. Pietro) \n  \nTERMINE DELLE ISCRIZIONI: 13 luglio 2025 \nI Vescovi e i Presbiteri che desiderano concelebrare\, e i Diaconi che vorranno partecipare\, dovranno prenotarsi presso l’Ufficio delle Celebrazioni Liturgiche del Sommo Pontefice tramite il seguente link: https://biglietti.liturgiepontificie.va/ . Le iscrizioni inizieranno solo dopo la pubblicazione ufficiale del calendario delle celebrazioni presiedute dal Santo Padre. \n
URL:https://www.diocesidiroma.it/event/giubileo-della-consolazione/
CATEGORIES:Iniziative Giubileo 25
END:VEVENT
END:VCALENDAR