BEGIN:VCALENDAR
VERSION:2.0
PRODID:-//DIOCESI DI ROMA - ECPv4.6.14.1//NONSGML v1.0//EN
CALSCALE:GREGORIAN
METHOD:PUBLISH
X-WR-CALNAME:DIOCESI DI ROMA
X-ORIGINAL-URL:https://www.diocesidiroma.it
X-WR-CALDESC:Eventi per DIOCESI DI ROMA
BEGIN:VEVENT
DTSTART;VALUE=DATE:20251024
DTEND;VALUE=DATE:20251025
DTSTAMP:20260423T113428
CREATED:20251017T105626Z
LAST-MODIFIED:20251017T110103Z
UID:37990-1761264000-1761350399@www.diocesidiroma.it
SUMMARY:Giubileo dell'Istituto Giovanni Paolo II
DESCRIPTION: \n
URL:https://www.diocesidiroma.it/event/giubileo-dellistituto-giovanni-paolo-ii/
CATEGORIES:Iniziative Giubileo 25
END:VEVENT
END:VCALENDAR