BEGIN:VCALENDAR
VERSION:2.0
PRODID:-//DIOCESI DI ROMA - ECPv4.6.14.1//NONSGML v1.0//EN
CALSCALE:GREGORIAN
METHOD:PUBLISH
X-WR-CALNAME:DIOCESI DI ROMA
X-ORIGINAL-URL:https://www.diocesidiroma.it
X-WR-CALDESC:Eventi per DIOCESI DI ROMA
BEGIN:VEVENT
DTSTART;VALUE=DATE:20251114
DTEND;VALUE=DATE:20251115
DTSTAMP:20260424T020249
CREATED:20251114T093855Z
LAST-MODIFIED:20251114T094437Z
UID:38577-1763078400-1763164799@www.diocesidiroma.it
SUMMARY:Giubileo diocesano dei Poveri - Basilica di San Giovanni in Laterano
DESCRIPTION: \n
URL:https://www.diocesidiroma.it/event/giubileo-diocesano-dei-poveri-basilica-di-san-giovanni-in-laterano/
CATEGORIES:Iniziative Giubileo 25
END:VEVENT
END:VCALENDAR