BEGIN:VCALENDAR
VERSION:2.0
PRODID:-//DIOCESI DI ROMA - ECPv4.6.14.1//NONSGML v1.0//EN
CALSCALE:GREGORIAN
METHOD:PUBLISH
X-WR-CALNAME:DIOCESI DI ROMA
X-ORIGINAL-URL:https://www.diocesidiroma.it
X-WR-CALDESC:Eventi per DIOCESI DI ROMA
BEGIN:VEVENT
DTSTART;VALUE=DATE:20250921
DTEND;VALUE=DATE:20250922
DTSTAMP:20260422T085215
CREATED:20251015T080103Z
LAST-MODIFIED:20251015T080103Z
UID:37873-1758412800-1758499199@www.diocesidiroma.it
SUMMARY:Giubileo Enti Locali Regione Lazio - Basilica San Giovanni in Laterano
DESCRIPTION:Basilica San Giovanni in Laterano \nOre 10:30 Celebrazione Giubilare Enti Locali Regione  Lazio \n
URL:https://www.diocesidiroma.it/event/giubileo-enti-locali-regione-lazio-basilica-san-giovanni-in-laterano/
CATEGORIES:Iniziative Giubileo 25
END:VEVENT
END:VCALENDAR