BEGIN:VCALENDAR
VERSION:2.0
PRODID:-//DIOCESI DI ROMA - ECPv4.6.14.1//NONSGML v1.0//EN
CALSCALE:GREGORIAN
METHOD:PUBLISH
X-WR-CALNAME:DIOCESI DI ROMA
X-ORIGINAL-URL:https://www.diocesidiroma.it
X-WR-CALDESC:Eventi per DIOCESI DI ROMA
BEGIN:VEVENT
DTSTART;VALUE=DATE:20250301
DTEND;VALUE=DATE:20250302
DTSTAMP:20260422T124809
CREATED:20250325T152646Z
LAST-MODIFIED:20250325T152646Z
UID:34777-1740787200-1740873599@www.diocesidiroma.it
SUMMARY:Giubileo II Prefettura - Basilica di San Pietro
DESCRIPTION:\nPellegrinaggio Giubilare\n\n\nII° PREFETTURA DIOCESI DI ROMA\nSABATO 1 MARZO\nProgramma del pellegrinaggio giubilare\nore 9.00\nInizio confessioni sacramentali\nLITURGIA PENITENZIALE \nore 10.30\nSanta Messa \nore 11.15\nIN CAMMINO verso la Porta Santa della Basilica di San Pietro \n\n
URL:https://www.diocesidiroma.it/event/giubileo-ii-prefettura-basilica-di-san-pietro/
CATEGORIES:Iniziative Giubileo 25
END:VEVENT
END:VCALENDAR