BEGIN:VCALENDAR
VERSION:2.0
PRODID:-//DIOCESI DI ROMA - ECPv4.6.14.1//NONSGML v1.0//EN
CALSCALE:GREGORIAN
METHOD:PUBLISH
X-WR-CALNAME:DIOCESI DI ROMA
X-ORIGINAL-URL:https://www.diocesidiroma.it
X-WR-CALDESC:Eventi per DIOCESI DI ROMA
BEGIN:VEVENT
DTSTART;VALUE=DATE:20250215
DTEND;VALUE=DATE:20250216
DTSTAMP:20260424T184358
CREATED:20250318T154549Z
LAST-MODIFIED:20250324T104453Z
UID:34526-1739577600-1739663999@www.diocesidiroma.it
SUMMARY:Giubileo Parrocchia Gran Madre Di Dio - Basilica di San Paolo fuori le Mura
DESCRIPTION: \n
URL:https://www.diocesidiroma.it/event/giubileo-parrocchia-gran-madre-di-dio/
CATEGORIES:Iniziative Giubileo 25
END:VEVENT
END:VCALENDAR