BEGIN:VCALENDAR
VERSION:2.0
PRODID:-//DIOCESI DI ROMA - ECPv4.6.14.1//NONSGML v1.0//EN
CALSCALE:GREGORIAN
METHOD:PUBLISH
X-WR-CALNAME:DIOCESI DI ROMA
X-ORIGINAL-URL:https://www.diocesidiroma.it
X-WR-CALDESC:Eventi per DIOCESI DI ROMA
BEGIN:VEVENT
DTSTART;VALUE=DATE:20251129
DTEND;VALUE=DATE:20251130
DTSTAMP:20260422T053600
CREATED:20250610T132243Z
LAST-MODIFIED:20250612T070656Z
UID:36044-1764374400-1764460799@www.diocesidiroma.it
SUMMARY:Giubileo Parrocchia S. Cipriano - Basilica di San Giovanni in Laterano
DESCRIPTION: \n  \n
URL:https://www.diocesidiroma.it/event/giubileo-parrocchia-s-cipriano/
CATEGORIES:Iniziative Giubileo 25
END:VEVENT
END:VCALENDAR