BEGIN:VCALENDAR
VERSION:2.0
PRODID:-//DIOCESI DI ROMA - ECPv4.6.14.1//NONSGML v1.0//EN
CALSCALE:GREGORIAN
METHOD:PUBLISH
X-WR-CALNAME:DIOCESI DI ROMA
X-ORIGINAL-URL:https://www.diocesidiroma.it
X-WR-CALDESC:Eventi per DIOCESI DI ROMA
BEGIN:VEVENT
DTSTART;VALUE=DATE:20251203
DTEND;VALUE=DATE:20251204
DTSTAMP:20260422T001244
CREATED:20251202T070605Z
LAST-MODIFIED:20251202T070605Z
UID:38874-1764720000-1764806399@www.diocesidiroma.it
SUMMARY:Giubileo Parrocchia S. Francesco Saverio alla Garbatella - Basilica San Paolo fuori le Mura
DESCRIPTION:\nPellegrinaggio giubilare Parrocchia San Francesco Saverio alla Garbatella e Santa Messa a San Paolo fuori le Mura \n\n  \n
URL:https://www.diocesidiroma.it/event/giubileo-parrocchia-s-francesco-saverio-alla-garbatella-basilica-san-paolo-fuori-le-mura/
CATEGORIES:Iniziative Giubileo 25
END:VEVENT
END:VCALENDAR