BEGIN:VCALENDAR
VERSION:2.0
PRODID:-//DIOCESI DI ROMA - ECPv4.6.14.1//NONSGML v1.0//EN
CALSCALE:GREGORIAN
METHOD:PUBLISH
X-WR-CALNAME:DIOCESI DI ROMA
X-ORIGINAL-URL:https://www.diocesidiroma.it
X-WR-CALDESC:Eventi per DIOCESI DI ROMA
BEGIN:VEVENT
DTSTART;VALUE=DATE:20250329
DTEND;VALUE=DATE:20250330
DTSTAMP:20260424T151134
CREATED:20250325T163624Z
LAST-MODIFIED:20250325T163636Z
UID:34782-1743206400-1743292799@www.diocesidiroma.it
SUMMARY:Giubileo Parrocchia S. Gabriele dell'Addolorata - Basilica di San Giovanni in Laterano
DESCRIPTION: \n
URL:https://www.diocesidiroma.it/event/giubileo-parrocchia-s-gabriele-delladdolorata-basilica-di-san-giovanni-in-laterano/
CATEGORIES:Iniziative Giubileo 25
END:VEVENT
END:VCALENDAR