BEGIN:VCALENDAR
VERSION:2.0
PRODID:-//DIOCESI DI ROMA - ECPv4.6.14.1//NONSGML v1.0//EN
CALSCALE:GREGORIAN
METHOD:PUBLISH
X-WR-CALNAME:DIOCESI DI ROMA
X-ORIGINAL-URL:https://www.diocesidiroma.it
X-WR-CALDESC:Eventi per DIOCESI DI ROMA
BEGIN:VEVENT
DTSTART;VALUE=DATE:20250226
DTEND;VALUE=DATE:20250227
DTSTAMP:20260424T184417
CREATED:20250318T155044Z
LAST-MODIFIED:20250324T100239Z
UID:34532-1740528000-1740614399@www.diocesidiroma.it
SUMMARY:Giubileo Parrocchia S. Giuseppe da Copertino - Basilica di Santa Maria Maggiore
DESCRIPTION: Pellegrinaggio giubilare Parrocchia S. Giuseppe da Copertino alla Basilica di Santa Maria Maggiore\nProgramma: \nore 15.45 Preghiera di inizio pellegrinaggio in Chiesa \nore 16.00 Partenza in pullman\, arrivo e passaggio della Porta Santa \nore 17.15 Santo Rosario \nore 18.00 Santa Messa nella Cappella Borghesiana della Salus Populi Romani \nore 20.00 Rientro in parrocchia \nMartedì 25 febbraio alle ore 19.00\, confessioni per i pellegrini in Chiesa. \n
URL:https://www.diocesidiroma.it/event/giubileo-parrocchia-s-giuseppe-da-copertino/
CATEGORIES:Iniziative Giubileo 25
END:VEVENT
END:VCALENDAR