BEGIN:VCALENDAR
VERSION:2.0
PRODID:-//DIOCESI DI ROMA - ECPv4.6.14.1//NONSGML v1.0//EN
CALSCALE:GREGORIAN
METHOD:PUBLISH
X-WR-CALNAME:DIOCESI DI ROMA
X-ORIGINAL-URL:https://www.diocesidiroma.it
X-WR-CALDESC:Eventi per DIOCESI DI ROMA
BEGIN:VEVENT
DTSTART;VALUE=DATE:20251012
DTEND;VALUE=DATE:20251013
DTSTAMP:20260422T072453
CREATED:20251017T111056Z
LAST-MODIFIED:20251017T111056Z
UID:37993-1760227200-1760313599@www.diocesidiroma.it
SUMMARY:Giubileo Parrocchia S. Giuseppe Moscati - Basilica di San Giovanni in Laterano
DESCRIPTION: \n
URL:https://www.diocesidiroma.it/event/giubileo-parrocchia-s-giuseppe-moscati-basilica-di-san-giovanni-in-laterano/
CATEGORIES:Iniziative Giubileo 25
END:VEVENT
END:VCALENDAR