BEGIN:VCALENDAR
VERSION:2.0
PRODID:-//DIOCESI DI ROMA - ECPv4.6.14.1//NONSGML v1.0//EN
CALSCALE:GREGORIAN
METHOD:PUBLISH
X-WR-CALNAME:DIOCESI DI ROMA
X-ORIGINAL-URL:https://www.diocesidiroma.it
X-WR-CALDESC:Eventi per DIOCESI DI ROMA
BEGIN:VEVENT
DTSTART;VALUE=DATE:20251129
DTEND;VALUE=DATE:20251130
DTSTAMP:20260422T070103
CREATED:20250806T100926Z
LAST-MODIFIED:20250806T100926Z
UID:36587-1764374400-1764460799@www.diocesidiroma.it
SUMMARY:Giubileo Parrocchia S. Giustino - Basilica di San Giovanni in Laterano
DESCRIPTION:Basilica di San Giovanni in Laterano \nOre 17:30 Celebrazione Giubilare Parrocchia S. Giustino \n
URL:https://www.diocesidiroma.it/event/giubileo-parrocchia-s-giustino-basilica-di-san-giovanni-in-laterano/
CATEGORIES:Iniziative Giubileo 25
END:VEVENT
END:VCALENDAR