BEGIN:VCALENDAR
VERSION:2.0
PRODID:-//DIOCESI DI ROMA - ECPv4.6.14.1//NONSGML v1.0//EN
CALSCALE:GREGORIAN
METHOD:PUBLISH
X-WR-CALNAME:DIOCESI DI ROMA
X-ORIGINAL-URL:https://www.diocesidiroma.it
X-WR-CALDESC:Eventi per DIOCESI DI ROMA
BEGIN:VEVENT
DTSTART;VALUE=DATE:20250322
DTEND;VALUE=DATE:20250323
DTSTAMP:20260420T224400
CREATED:20250327T075135Z
LAST-MODIFIED:20250327T075135Z
UID:34806-1742601600-1742687999@www.diocesidiroma.it
SUMMARY:Giubileo Parrocchia S. Maria del Buon Consiglio - Basilica di San Giovanni in Laterano
DESCRIPTION: \n
URL:https://www.diocesidiroma.it/event/giubileo-parrocchia-s-maria-del-buon-consiglio-basilica-di-san-giovanni-in-laterano/
CATEGORIES:Iniziative Giubileo 25
END:VEVENT
END:VCALENDAR