BEGIN:VCALENDAR
VERSION:2.0
PRODID:-//DIOCESI DI ROMA - ECPv4.6.14.1//NONSGML v1.0//EN
CALSCALE:GREGORIAN
METHOD:PUBLISH
X-WR-CALNAME:DIOCESI DI ROMA
X-ORIGINAL-URL:https://www.diocesidiroma.it
X-WR-CALDESC:Eventi per DIOCESI DI ROMA
BEGIN:VEVENT
DTSTART;VALUE=DATE:20251005
DTEND;VALUE=DATE:20251006
DTSTAMP:20260421T023746
CREATED:20250806T101741Z
LAST-MODIFIED:20250806T101741Z
UID:36594-1759622400-1759708799@www.diocesidiroma.it
SUMMARY:Giubileo Parrocchia S. Pio da Pietrelcina - Basilica di San Giovanni in Laterano
DESCRIPTION:Basilica di San Giovanni in Laterano \nOre 17:30 Celebrazione giubilare Parrocchia S. Pio da Pietrelcina \n
URL:https://www.diocesidiroma.it/event/giubileo-parrocchia-s-pio-da-pietrelcina-basilica-di-san-giovanni-in-laterano/
CATEGORIES:Iniziative Giubileo 25
END:VEVENT
END:VCALENDAR