BEGIN:VCALENDAR
VERSION:2.0
PRODID:-//DIOCESI DI ROMA - ECPv4.6.14.1//NONSGML v1.0//EN
CALSCALE:GREGORIAN
METHOD:PUBLISH
X-WR-CALNAME:DIOCESI DI ROMA
X-ORIGINAL-URL:https://www.diocesidiroma.it
X-WR-CALDESC:Eventi per DIOCESI DI ROMA
BEGIN:VEVENT
DTSTART;TZID=Europe/Rome:20250324T080000
DTEND;TZID=Europe/Rome:20250324T170000
DTSTAMP:20260424T164656
CREATED:20250324T103451Z
LAST-MODIFIED:20251017T085528Z
UID:34721-1742803200-1742835600@www.diocesidiroma.it
SUMMARY:Giubileo XXX Prefettura - Basilica di San Giovanni in Laterano
DESCRIPTION:Basilica di San Giovanni in Laterano \nOre 17:30 Celebrazione Giubilare XXX Prefettura \n
URL:https://www.diocesidiroma.it/event/giubileo-xxx-prefettura/
CATEGORIES:Iniziative Giubileo 25
END:VEVENT
END:VCALENDAR