BEGIN:VCALENDAR
VERSION:2.0
PRODID:-//DIOCESI DI ROMA - ECPv4.6.14.1//NONSGML v1.0//EN
CALSCALE:GREGORIAN
METHOD:PUBLISH
X-WR-CALNAME:DIOCESI DI ROMA
X-ORIGINAL-URL:https://www.diocesidiroma.it
X-WR-CALDESC:Eventi per DIOCESI DI ROMA
BEGIN:VEVENT
DTSTART;VALUE=DATE:20241123
DTEND;VALUE=DATE:20241125
DTSTAMP:20260421T180029
CREATED:20241107T105103Z
LAST-MODIFIED:20241107T105926Z
UID:31773-1732320000-1732492799@www.diocesidiroma.it
SUMMARY:GMG Diocesana 2024
DESCRIPTION:PROGRAMMA: \n23 novembre (Santuario della Madonna del Divino Amore) \nore 19:00 – partenza con i pullman in luoghi predefiniti in base alle iscrizioni \nore 20:00 – accoglienza e registrazione \nore 21:00 – cena a buffet \nore 23:00 – festa all’auditorium con band di musica dal vivo\, discoteca\, giochi interattivi \nore 02:00 – veglia (C’era una volta Gesù – testimonianze – esposizione del Santissimo – spazio per le confessioni) \nore 03:30 – processione attraverso i luoghi significativi del Santuario a seguire grande cornettata tra le stelle e l’alba \n24 novembre \nore 10:00 celebrazione S. Messa con il Santo Padre in Piazza San Pietro \n
URL:https://www.diocesidiroma.it/event/gmg-diocesana-2024/
CATEGORIES:Iniziative Giubileo 25
END:VEVENT
END:VCALENDAR