BEGIN:VCALENDAR
VERSION:2.0
PRODID:-//DIOCESI DI ROMA - ECPv4.6.14.1//NONSGML v1.0//EN
CALSCALE:GREGORIAN
METHOD:PUBLISH
X-WR-CALNAME:DIOCESI DI ROMA
X-ORIGINAL-URL:https://www.diocesidiroma.it
X-WR-CALDESC:Eventi per DIOCESI DI ROMA
BEGIN:VEVENT
DTSTART;VALUE=DATE:20251121
DTEND;VALUE=DATE:20251123
DTSTAMP:20260422T070718
CREATED:20250910T123314Z
LAST-MODIFIED:20251006T103450Z
UID:37020-1763683200-1763855999@www.diocesidiroma.it
SUMMARY:GMG diocesana in collaborazione con Dicastero LFV
DESCRIPTION:GMG diocesana in collaborazione con Dicastero LFV \n
URL:https://www.diocesidiroma.it/event/gmg-diocesana-in-collaborazione-con-dicastero-lfv/
CATEGORIES:In Diocesi,Iniziative degli Uffici
END:VEVENT
END:VCALENDAR