BEGIN:VCALENDAR
VERSION:2.0
PRODID:-//DIOCESI DI ROMA - ECPv4.6.14.1//NONSGML v1.0//EN
CALSCALE:GREGORIAN
METHOD:PUBLISH
X-WR-CALNAME:DIOCESI DI ROMA
X-ORIGINAL-URL:https://www.diocesidiroma.it
X-WR-CALDESC:Eventi per DIOCESI DI ROMA
BEGIN:VEVENT
DTSTART;TZID=Europe/Rome:20200118T093000
DTEND;TZID=Europe/Rome:20200118T170000
DTSTAMP:20260423T182436
CREATED:20190917T150750Z
LAST-MODIFIED:20190917T150750Z
UID:8624-1579339800-1579366800@www.diocesidiroma.it
SUMMARY:"Gruppo: non strumento ma contenuto dell'annuncio": incontro di formazione per gli educatori degli adolescenti
DESCRIPTION:“Gruppo: non strumento ma contenuto dell’annuncio”: incontro di formazione per gli educatori degli adolescenti al Pontificio Seminario Romano Maggiore\, a cura del Servizio per la pastorale giovanile. \n
URL:https://www.diocesidiroma.it/event/gruppo-non-strumento-ma-contenuto-dellannuncio-incontro-di-formazione-per-gli-educatori-degli-adolescenti/
CATEGORIES:Iniziative degli Uffici
END:VEVENT
END:VCALENDAR