BEGIN:VCALENDAR
VERSION:2.0
PRODID:-//DIOCESI DI ROMA - ECPv4.6.14.1//NONSGML v1.0//EN
CALSCALE:GREGORIAN
METHOD:PUBLISH
X-WR-CALNAME:DIOCESI DI ROMA
X-ORIGINAL-URL:https://www.diocesidiroma.it
X-WR-CALDESC:Eventi per DIOCESI DI ROMA
BEGIN:VEVENT
DTSTART;TZID=Europe/Rome:20191111T000000
DTEND;TZID=Europe/Rome:20191115T000000
DTSTAMP:20260423T201714
CREATED:20191108T081659Z
LAST-MODIFIED:20191108T081659Z
UID:9204-1573430400-1573776000@www.diocesidiroma.it
SUMMARY:Guida gli esercizi spirituali alla Fraterna Domus di Sacrofano per i parroci della diocesi
DESCRIPTION:Guida gli esercizi spirituali alla Fraterna Domus di Sacrofano per i parroci della diocesi. \n
URL:https://www.diocesidiroma.it/event/guida-gli-esercizi-spirituali-alla-fraterna-domus-di-sacrofano-per-i-parroci-della-diocesi/
CATEGORIES:NON USARE --- Agenda del Vicario
END:VEVENT
END:VCALENDAR