BEGIN:VCALENDAR
VERSION:2.0
PRODID:-//DIOCESI DI ROMA - ECPv4.6.14.1//NONSGML v1.0//EN
CALSCALE:GREGORIAN
METHOD:PUBLISH
X-WR-CALNAME:DIOCESI DI ROMA
X-ORIGINAL-URL:https://www.diocesidiroma.it
X-WR-CALDESC:Eventi per DIOCESI DI ROMA
BEGIN:VEVENT
DTSTART;TZID=Europe/Rome:20241222T190000
DTEND;TZID=Europe/Rome:20241222T190000
DTSTAMP:20260422T115603
CREATED:20241216T080602Z
LAST-MODIFIED:20241216T080602Z
UID:32604-1734894000-1734894000@www.diocesidiroma.it
SUMMARY:Guida un momento di preghiera nella parrocchia dei Santi Aquila e Priscilla dedicato ai giovani della XXIX prefettura
DESCRIPTION:Guida un momento di preghiera nella parrocchia dei Santi Aquila e Priscilla dedicato ai giovani della XXIX prefettura \n
URL:https://www.diocesidiroma.it/event/guida-un-momento-di-preghiera-nella-parrocchia-dei-santi-aquila-e-priscilla-dedicato-ai-giovani-della-xxix-prefettura/
CATEGORIES:Vicario Generale
END:VEVENT
END:VCALENDAR