BEGIN:VCALENDAR
VERSION:2.0
PRODID:-//DIOCESI DI ROMA - ECPv4.6.14.1//NONSGML v1.0//EN
CALSCALE:GREGORIAN
METHOD:PUBLISH
X-WR-CALNAME:DIOCESI DI ROMA
X-ORIGINAL-URL:https://www.diocesidiroma.it
X-WR-CALDESC:Eventi per DIOCESI DI ROMA
BEGIN:VEVENT
DTSTART;TZID=Europe/Rome:20181202T000000
DTEND;TZID=Europe/Rome:20181202T000000
DTSTAMP:20260424T160600
CREATED:20180918T122134Z
LAST-MODIFIED:20180918T122134Z
UID:4633-1543708800-1543708800@www.diocesidiroma.it
SUMMARY:I domenica di Avvento
DESCRIPTION:I domenica di Avvento  \n
URL:https://www.diocesidiroma.it/event/i-domenica-di-avvento-2/
CATEGORIES:Ricorrenze
END:VEVENT
END:VCALENDAR