BEGIN:VCALENDAR
VERSION:2.0
PRODID:-//DIOCESI DI ROMA - ECPv4.6.14.1//NONSGML v1.0//EN
CALSCALE:GREGORIAN
METHOD:PUBLISH
X-WR-CALNAME:DIOCESI DI ROMA
X-ORIGINAL-URL:https://www.diocesidiroma.it
X-WR-CALDESC:Eventi per DIOCESI DI ROMA
BEGIN:VEVENT
DTSTART;VALUE=DATE:20191201
DTEND;VALUE=DATE:20191202
DTSTAMP:20260420T214909
CREATED:20190917T103519Z
LAST-MODIFIED:20190917T103534Z
UID:8498-1575158400-1575244799@www.diocesidiroma.it
SUMMARY:I Domenica di Avvento
DESCRIPTION:La Domenica della Parola. \n
URL:https://www.diocesidiroma.it/event/i-domenica-di-avvento-3/
CATEGORIES:Ricorrenze
END:VEVENT
END:VCALENDAR