BEGIN:VCALENDAR
VERSION:2.0
PRODID:-//DIOCESI DI ROMA - ECPv4.6.14.1//NONSGML v1.0//EN
CALSCALE:GREGORIAN
METHOD:PUBLISH
X-WR-CALNAME:DIOCESI DI ROMA
X-ORIGINAL-URL:https://www.diocesidiroma.it
X-WR-CALDESC:Eventi per DIOCESI DI ROMA
BEGIN:VEVENT
DTSTART;TZID=Europe/Rome:20190310T000000
DTEND;TZID=Europe/Rome:20190310T000000
DTSTAMP:20260422T235137
CREATED:20181011T074939Z
LAST-MODIFIED:20181011T074939Z
UID:4998-1552176000-1552176000@www.diocesidiroma.it
SUMMARY:I Domenica di Quaresima. Celebrazione del rito dell'Elezione
DESCRIPTION:I Domenica di Quaresima. Celebrazione del rito dell’Elezione. \n
URL:https://www.diocesidiroma.it/event/i-domenica-di-quaresima-celebrazione-del-rito-dellelezione/
CATEGORIES:In Diocesi
END:VEVENT
END:VCALENDAR