BEGIN:VCALENDAR
VERSION:2.0
PRODID:-//DIOCESI DI ROMA - ECPv4.6.14.1//NONSGML v1.0//EN
CALSCALE:GREGORIAN
METHOD:PUBLISH
X-WR-CALNAME:DIOCESI DI ROMA
X-ORIGINAL-URL:https://www.diocesidiroma.it
X-WR-CALDESC:Eventi per DIOCESI DI ROMA
BEGIN:VEVENT
DTSTART;TZID=Europe/Rome:20251029T183000
DTEND;TZID=Europe/Rome:20251029T200000
DTSTAMP:20260421T034650
CREATED:20250910T111112Z
LAST-MODIFIED:20250910T111112Z
UID:36954-1761762600-1761768000@www.diocesidiroma.it
SUMMARY:"I Mercoledì della Salute" presso la Sala Conferenze del Seminario Romano Maggiore (Uff. per la Pastorale della salute)
DESCRIPTION:“I Mercoledì della Salute” presso la Sala Conferenze del Seminario Romano Maggiore (Uff. per la Pastorale della salute) \n
URL:https://www.diocesidiroma.it/event/i-mercoledi-della-salute-presso-la-sala-conferenze-del-seminario-romano-maggiore-uff-per-la-pastorale-della-salute/
CATEGORIES:In Diocesi,Iniziative degli Uffici
END:VEVENT
END:VCALENDAR