BEGIN:VCALENDAR
VERSION:2.0
PRODID:-//DIOCESI DI ROMA - ECPv4.6.14.1//NONSGML v1.0//EN
CALSCALE:GREGORIAN
METHOD:PUBLISH
X-WR-CALNAME:DIOCESI DI ROMA
X-ORIGINAL-URL:https://www.diocesidiroma.it
X-WR-CALDESC:Eventi per DIOCESI DI ROMA
BEGIN:VEVENT
DTSTART;TZID=Europe/Rome:20181209T000000
DTEND;TZID=Europe/Rome:20181209T000000
DTSTAMP:20260421T121421
CREATED:20180918T124033Z
LAST-MODIFIED:20180918T124033Z
UID:4661-1544313600-1544313600@www.diocesidiroma.it
SUMMARY:II Domenica di Avvento
DESCRIPTION:II Domenica di Avvento \n
URL:https://www.diocesidiroma.it/event/ii-domenica-di-avvento-2/
CATEGORIES:Ricorrenze
END:VEVENT
END:VCALENDAR