BEGIN:VCALENDAR
VERSION:2.0
PRODID:-//DIOCESI DI ROMA - ECPv4.6.14.1//NONSGML v1.0//EN
CALSCALE:GREGORIAN
METHOD:PUBLISH
X-WR-CALNAME:DIOCESI DI ROMA
X-ORIGINAL-URL:https://www.diocesidiroma.it
X-WR-CALDESC:Eventi per DIOCESI DI ROMA
BEGIN:VEVENT
DTSTART;VALUE=DATE:20171210
DTEND;VALUE=DATE:20171211
DTSTAMP:20260425T155040
CREATED:20171228T120352Z
LAST-MODIFIED:20171228T120352Z
UID:463-1512864000-1512950399@www.diocesidiroma.it
SUMMARY:II DOMENICA DI AVVENTO
DESCRIPTION:
URL:https://www.diocesidiroma.it/event/ii-domenica-di-avvento/
CATEGORIES:Ricorrenze
END:VEVENT
END:VCALENDAR