BEGIN:VCALENDAR
VERSION:2.0
PRODID:-//DIOCESI DI ROMA - ECPv4.6.14.1//NONSGML v1.0//EN
CALSCALE:GREGORIAN
METHOD:PUBLISH
X-WR-CALNAME:DIOCESI DI ROMA
X-ORIGINAL-URL:https://www.diocesidiroma.it
X-WR-CALDESC:Eventi per DIOCESI DI ROMA
BEGIN:VEVENT
DTSTART;VALUE=DATE:20230416
DTEND;VALUE=DATE:20230417
DTSTAMP:20260422T044014
CREATED:20230330T100615Z
LAST-MODIFIED:20230330T100615Z
UID:25870-1681603200-1681689599@www.diocesidiroma.it
SUMMARY:II Domenica di Pasqua Festa della Divina Misericordia
DESCRIPTION:II Domenica di Pasqua Festa della Divina Misericordia \n
URL:https://www.diocesidiroma.it/event/ii-domenica-di-pasqua-festa-della-divina-misericordia-2/
CATEGORIES:In Diocesi,Ricorrenze
END:VEVENT
END:VCALENDAR