BEGIN:VCALENDAR
VERSION:2.0
PRODID:-//DIOCESI DI ROMA - ECPv4.6.14.1//NONSGML v1.0//EN
CALSCALE:GREGORIAN
METHOD:PUBLISH
X-WR-CALNAME:DIOCESI DI ROMA
X-ORIGINAL-URL:https://www.diocesidiroma.it
X-WR-CALDESC:Eventi per DIOCESI DI ROMA
BEGIN:VEVENT
DTSTART;VALUE=DATE:20200419
DTEND;VALUE=DATE:20200420
DTSTAMP:20260422T010919
CREATED:20191002T143343Z
LAST-MODIFIED:20191002T143425Z
UID:8914-1587254400-1587340799@www.diocesidiroma.it
SUMMARY:II Domenica di Pasqua. Festa della Divina Misericordia
DESCRIPTION:II Domenica di Pasqua. Festa della Divina Misericordia \n
URL:https://www.diocesidiroma.it/event/ii-domenica-di-pasqua-festa-della-divina-misericordia/
CATEGORIES:Ricorrenze
END:VEVENT
END:VCALENDAR