BEGIN:VCALENDAR
VERSION:2.0
PRODID:-//DIOCESI DI ROMA - ECPv4.6.14.1//NONSGML v1.0//EN
CALSCALE:GREGORIAN
METHOD:PUBLISH
X-WR-CALNAME:DIOCESI DI ROMA
X-ORIGINAL-URL:https://www.diocesidiroma.it
X-WR-CALDESC:Eventi per DIOCESI DI ROMA
BEGIN:VEVENT
DTSTART;TZID=Europe/Rome:20190317T000000
DTEND;TZID=Europe/Rome:20190317T000000
DTSTAMP:20260420T211448
CREATED:20181011T080110Z
LAST-MODIFIED:20181011T080110Z
UID:5015-1552780800-1552780800@www.diocesidiroma.it
SUMMARY:II Domenica di Quaresima
DESCRIPTION:II Domenica di Quaresima. \n
URL:https://www.diocesidiroma.it/event/ii-domenica-di-quaresima-2/
CATEGORIES:Ricorrenze
END:VEVENT
END:VCALENDAR