BEGIN:VCALENDAR
VERSION:2.0
PRODID:-//DIOCESI DI ROMA - ECPv4.6.14.1//NONSGML v1.0//EN
CALSCALE:GREGORIAN
METHOD:PUBLISH
X-WR-CALNAME:DIOCESI DI ROMA
X-ORIGINAL-URL:https://www.diocesidiroma.it
X-WR-CALDESC:Eventi per DIOCESI DI ROMA
BEGIN:VEVENT
DTSTART;TZID=Europe/Rome:20181216T000000
DTEND;TZID=Europe/Rome:20181216T000000
DTSTAMP:20260420T200818
CREATED:20180918T125127Z
LAST-MODIFIED:20180918T125127Z
UID:4671-1544918400-1544918400@www.diocesidiroma.it
SUMMARY:III Domenica di Avvento. Giornata della carità
DESCRIPTION:III Domenica di Avvento. Giornata della carità. Colletta per le iniziative di carità promosse dalla parrocchia.  \n
URL:https://www.diocesidiroma.it/event/iii-domenica-di-avvento-giornata-della-carita/
CATEGORIES:Ricorrenze
END:VEVENT
END:VCALENDAR