BEGIN:VCALENDAR
VERSION:2.0
PRODID:-//DIOCESI DI ROMA - ECPv4.6.14.1//NONSGML v1.0//EN
CALSCALE:GREGORIAN
METHOD:PUBLISH
X-WR-CALNAME:DIOCESI DI ROMA
X-ORIGINAL-URL:https://www.diocesidiroma.it
X-WR-CALDESC:Eventi per DIOCESI DI ROMA
BEGIN:VEVENT
DTSTART;VALUE=DATE:20260419
DTEND;VALUE=DATE:20260420
DTSTAMP:20260422T095528
CREATED:20251021T090752Z
LAST-MODIFIED:20251021T090752Z
UID:38036-1776556800-1776643199@www.diocesidiroma.it
SUMMARY:III DOMENICA DI PASQUA
DESCRIPTION:III DOMENICA DI PASQUA \n
URL:https://www.diocesidiroma.it/event/iii-domenica-di-pasqua-2/
CATEGORIES:Ricorrenze
END:VEVENT
END:VCALENDAR