BEGIN:VCALENDAR
VERSION:2.0
PRODID:-//DIOCESI DI ROMA - ECPv4.6.14.1//NONSGML v1.0//EN
CALSCALE:GREGORIAN
METHOD:PUBLISH
X-WR-CALNAME:DIOCESI DI ROMA
X-ORIGINAL-URL:https://www.diocesidiroma.it
X-WR-CALDESC:Eventi per DIOCESI DI ROMA
BEGIN:VEVENT
DTSTART;TZID=Europe/Rome:20190324T000000
DTEND;TZID=Europe/Rome:20190324T000000
DTSTAMP:20260420T195606
CREATED:20181011T082528Z
LAST-MODIFIED:20181011T082815Z
UID:5033-1553385600-1553385600@www.diocesidiroma.it
SUMMARY:III Domenica di Quaresima. Giornata di preghiera e digiuno in memoria dei missionari martiri
DESCRIPTION:III Domenica di Quaresima. Giornata di preghiera e digiuno in memoria dei missionari martiri. \n
URL:https://www.diocesidiroma.it/event/iii-domenica-di-quaresima-giornata-di-preghiera-e-digiuno-in-memoria-dei-missionari-martiri/
CATEGORIES:Ricorrenze
END:VEVENT
END:VCALENDAR