BEGIN:VCALENDAR
VERSION:2.0
PRODID:-//DIOCESI DI ROMA - ECPv4.6.14.1//NONSGML v1.0//EN
CALSCALE:GREGORIAN
METHOD:PUBLISH
X-WR-CALNAME:DIOCESI DI ROMA
X-ORIGINAL-URL:https://www.diocesidiroma.it
X-WR-CALDESC:Eventi per DIOCESI DI ROMA
BEGIN:VEVENT
DTSTART;TZID=Europe/Rome:20230329T193000
DTEND;TZID=Europe/Rome:20230329T193000
DTSTAMP:20260424T183242
CREATED:20230302T092244Z
LAST-MODIFIED:20230302T092329Z
UID:25543-1680118200-1680118200@www.diocesidiroma.it
SUMMARY:Il cammino di Pietro: il carcere di Pietro- Chiesa di San Giuseppe dei Falegnami al Foro Romano
DESCRIPTION:Il cammino di Pietro: il carcere di Pietro- Chiesa di San Giuseppe dei Falegnami al Foro Romano \n
URL:https://www.diocesidiroma.it/event/il-cammino-di-pietro-il-carcere-di-pietro-chiesa-di-san-giuseppe-dei-falegnami-al-foro-romano/
CATEGORIES:In Diocesi
END:VEVENT
END:VCALENDAR