BEGIN:VCALENDAR
VERSION:2.0
PRODID:-//DIOCESI DI ROMA - ECPv4.6.14.1//NONSGML v1.0//EN
CALSCALE:GREGORIAN
METHOD:PUBLISH
X-WR-CALNAME:DIOCESI DI ROMA
X-ORIGINAL-URL:https://www.diocesidiroma.it
X-WR-CALDESC:Eventi per DIOCESI DI ROMA
BEGIN:VEVENT
DTSTART;TZID=Europe/Rome:20230228T193000
DTEND;TZID=Europe/Rome:20230228T193000
DTSTAMP:20260424T133733
CREATED:20230201T152214Z
LAST-MODIFIED:20230201T152214Z
UID:25174-1677612600-1677612600@www.diocesidiroma.it
SUMMARY:Il cammino di Pietro: lo scontro tra Pietro e Simon Mago - Basilica di Santa Francesca Romana al Palatino
DESCRIPTION:Il cammino di Pietro: lo scontro tra Pietro e Simon Mago – Basilica di Santa Francesca Romana al Palatino \n
URL:https://www.diocesidiroma.it/event/il-cammino-di-pietro-lo-scontro-tra-pietro-e-simon-mago-basilica-di-santa-francesca-romana-al-palatino/
CATEGORIES:In Diocesi
END:VEVENT
END:VCALENDAR