BEGIN:VCALENDAR
VERSION:2.0
PRODID:-//DIOCESI DI ROMA - ECPv4.6.14.1//NONSGML v1.0//EN
CALSCALE:GREGORIAN
METHOD:PUBLISH
X-WR-CALNAME:DIOCESI DI ROMA
X-ORIGINAL-URL:https://www.diocesidiroma.it
X-WR-CALDESC:Eventi per DIOCESI DI ROMA
BEGIN:VEVENT
DTSTART;TZID=Europe/Rome:20181003T100000
DTEND;TZID=Europe/Rome:20181003T100000
DTSTAMP:20260424T121636
CREATED:20180928T084404Z
LAST-MODIFIED:20180928T084404Z
UID:4777-1538560800-1538560800@www.diocesidiroma.it
SUMMARY:Il cardinale De Donatis concelebra la Messa di apertura del Sinodo
DESCRIPTION:Concelebra la Messa sul Sagrato della Basilica Vaticana in occasione dell’apertura della XV Assemblea Generale Ordinaria del Sinodo dei vescovi. \n
URL:https://www.diocesidiroma.it/event/il-cardinale-de-donatis-concelebra-la-messa-di-apertura-del-sinodo/
CATEGORIES:NON USARE --- Agenda del Vicario
END:VEVENT
END:VCALENDAR