BEGIN:VCALENDAR
VERSION:2.0
PRODID:-//DIOCESI DI ROMA - ECPv4.6.14.1//NONSGML v1.0//EN
CALSCALE:GREGORIAN
METHOD:PUBLISH
X-WR-CALNAME:DIOCESI DI ROMA
X-ORIGINAL-URL:https://www.diocesidiroma.it
X-WR-CALDESC:Eventi per DIOCESI DI ROMA
BEGIN:VEVENT
DTSTART;VALUE=DATE:20171208
DTEND;VALUE=DATE:20171209
DTSTAMP:20260425T183506
CREATED:20171228T120220Z
LAST-MODIFIED:20171228T120220Z
UID:457-1512691200-1512777599@www.diocesidiroma.it
SUMMARY:IMMACOLATA CONCEZIONE DELLA B.V. MARIA
DESCRIPTION:
URL:https://www.diocesidiroma.it/event/immacolata-concezione-della-b-v-maria/
CATEGORIES:Ricorrenze
END:VEVENT
END:VCALENDAR