BEGIN:VCALENDAR
VERSION:2.0
PRODID:-//DIOCESI DI ROMA - ECPv4.6.14.1//NONSGML v1.0//EN
CALSCALE:GREGORIAN
METHOD:PUBLISH
X-WR-CALNAME:DIOCESI DI ROMA
X-ORIGINAL-URL:https://www.diocesidiroma.it
X-WR-CALDESC:Eventi per DIOCESI DI ROMA
BEGIN:VEVENT
DTSTART;TZID=Europe/Rome:20181208T160000
DTEND;TZID=Europe/Rome:20181208T160000
DTSTAMP:20260421T110547
CREATED:20180918T123719Z
LAST-MODIFIED:20180918T123719Z
UID:4655-1544284800-1544284800@www.diocesidiroma.it
SUMMARY:Immacolata concezione. Omaggio floreale del Santo Padre in piazza di Spagna
DESCRIPTION:Immacolata concezione della Beata Vergine Maria. Omaggio floreale del Santo Padre in piazza di Spagna. \n
URL:https://www.diocesidiroma.it/event/immacolata-concezione-omaggio-floreale-del-santo-padre-in-piazza-di-spagna/
CATEGORIES:Celebrazioni del Santo Padre
END:VEVENT
END:VCALENDAR