BEGIN:VCALENDAR
VERSION:2.0
PRODID:-//DIOCESI DI ROMA - ECPv4.6.14.1//NONSGML v1.0//EN
CALSCALE:GREGORIAN
METHOD:PUBLISH
X-WR-CALNAME:DIOCESI DI ROMA
X-ORIGINAL-URL:https://www.diocesidiroma.it
X-WR-CALDESC:Eventi per DIOCESI DI ROMA
BEGIN:VEVENT
DTSTART;TZID=Europe/Rome:20191208T160000
DTEND;TZID=Europe/Rome:20191208T170000
DTSTAMP:20260424T060906
CREATED:20190917T114522Z
LAST-MODIFIED:20190917T114522Z
UID:8541-1575820800-1575824400@www.diocesidiroma.it
SUMMARY:Immacolata in piazza di Spagna
DESCRIPTION:Omaggio floreale del Santo Padre in piazza di Spagna \n
URL:https://www.diocesidiroma.it/event/immacolata-in-piazza-di-spagna/
CATEGORIES:Celebrazioni del Santo Padre
END:VEVENT
END:VCALENDAR