BEGIN:VCALENDAR
VERSION:2.0
PRODID:-//DIOCESI DI ROMA - ECPv4.6.14.1//NONSGML v1.0//EN
CALSCALE:GREGORIAN
METHOD:PUBLISH
X-WR-CALNAME:DIOCESI DI ROMA
X-ORIGINAL-URL:https://www.diocesidiroma.it
X-WR-CALDESC:Eventi per DIOCESI DI ROMA
BEGIN:VEVENT
DTSTART;TZID=Europe/Rome:20251205T110000
DTEND;TZID=Europe/Rome:20251205T130000
DTSTAMP:20260422T101035
CREATED:20251127T132421Z
LAST-MODIFIED:20251127T132421Z
UID:38839-1764932400-1764939600@www.diocesidiroma.it
SUMMARY:Impegni istituzionali in Vaticano
DESCRIPTION:Impegni istituzionali in Vaticano \n
URL:https://www.diocesidiroma.it/event/impegni-istituzionali-in-vaticano/
CATEGORIES:Vicario Generale
END:VEVENT
END:VCALENDAR