BEGIN:VCALENDAR
VERSION:2.0
PRODID:-//DIOCESI DI ROMA - ECPv4.6.14.1//NONSGML v1.0//EN
CALSCALE:GREGORIAN
METHOD:PUBLISH
X-WR-CALNAME:DIOCESI DI ROMA
X-ORIGINAL-URL:https://www.diocesidiroma.it
X-WR-CALDESC:Eventi per DIOCESI DI ROMA
BEGIN:VEVENT
DTSTART;TZID=Europe/Rome:20251206T170000
DTEND;TZID=Europe/Rome:20251206T170000
DTSTAMP:20260422T142905
CREATED:20251127T132608Z
LAST-MODIFIED:20251127T132608Z
UID:38845-1765040400-1765040400@www.diocesidiroma.it
SUMMARY:In Aula Paolo VI per il Concerto con i poveri
DESCRIPTION:In Aula Paolo VI per il Concerto con i poveri \n
URL:https://www.diocesidiroma.it/event/in-aula-paolo-vi-per-il-concerto-con-i-poveri/
CATEGORIES:Vicario Generale
END:VEVENT
END:VCALENDAR