BEGIN:VCALENDAR
VERSION:2.0
PRODID:-//DIOCESI DI ROMA - ECPv4.6.14.1//NONSGML v1.0//EN
CALSCALE:GREGORIAN
METHOD:PUBLISH
X-WR-CALNAME:DIOCESI DI ROMA
X-ORIGINAL-URL:https://www.diocesidiroma.it
X-WR-CALDESC:Eventi per DIOCESI DI ROMA
BEGIN:VEVENT
DTSTART;VALUE=DATE:20260311
DTEND;VALUE=DATE:20260314
DTSTAMP:20260421T001610
CREATED:20260305T115453Z
LAST-MODIFIED:20260306T093018Z
UID:40351-1773187200-1773446399@www.diocesidiroma.it
SUMMARY:In Brasile per la visita alla sede dell’Istituto Giovanni Paolo II presso la facoltà teologica di São Paulo. Terrà una prolusione dal titolo: “Fare teologia con la città\, per la città: una via per la pastorale familiare”
DESCRIPTION:In Brasile per la visita alla sede dell’Istituto Giovanni Paolo II presso la facoltà teologica di São Paulo. Terrà una prolusione dal titolo: “Fare teologia con la città\, per la città: una via per la pastorale familiare” \n
URL:https://www.diocesidiroma.it/event/in-brasile-presso-la-pontificia-universita-cattolica-di-sao-paulo/
CATEGORIES:Vicario Generale
END:VEVENT
END:VCALENDAR