BEGIN:VCALENDAR
VERSION:2.0
PRODID:-//DIOCESI DI ROMA - ECPv4.6.14.1//NONSGML v1.0//EN
CALSCALE:GREGORIAN
METHOD:PUBLISH
X-WR-CALNAME:DIOCESI DI ROMA
X-ORIGINAL-URL:https://www.diocesidiroma.it
X-WR-CALDESC:Eventi per DIOCESI DI ROMA
BEGIN:VEVENT
DTSTART;TZID=Europe/Rome:20221012T093000
DTEND;TZID=Europe/Rome:20221012T093000
DTSTAMP:20260421T111253
CREATED:20221007T103646Z
LAST-MODIFIED:20221007T103646Z
UID:22791-1665567000-1665567000@www.diocesidiroma.it
SUMMARY:In Campidoglio partecipa al Convegno “L’attualità di una visione” organizzato dalla Fondazione Internazionale Don Luigi Di Liegro
DESCRIPTION:In Campidoglio partecipa al Convegno “L’attualità di una visione” organizzato dalla Fondazione Internazionale Don Luigi Di Liegro \n
URL:https://www.diocesidiroma.it/event/in-campidoglio-partecipa-al-convegno-lattualita-di-una-visione-organizzato-dalla-fondazione-internazionale-don-luigi-di-liegro/
CATEGORIES:NON USARE --- Agenda del Vicario
END:VEVENT
END:VCALENDAR