BEGIN:VCALENDAR
VERSION:2.0
PRODID:-//DIOCESI DI ROMA - ECPv4.6.14.1//NONSGML v1.0//EN
CALSCALE:GREGORIAN
METHOD:PUBLISH
X-WR-CALNAME:DIOCESI DI ROMA
X-ORIGINAL-URL:https://www.diocesidiroma.it
X-WR-CALDESC:Eventi per DIOCESI DI ROMA
BEGIN:VEVENT
DTSTART;TZID=Europe/Rome:20241125T170000
DTEND;TZID=Europe/Rome:20241125T170000
DTSTAMP:20260423T101205
CREATED:20241125T090544Z
LAST-MODIFIED:20241125T090544Z
UID:32123-1732554000-1732554000@www.diocesidiroma.it
SUMMARY:In Campidoglio partecipa alla presentazione del libro “Ecologia della territorialità”
DESCRIPTION:In Campidoglio partecipa alla presentazione del libro “Ecologia della territorialità” \n
URL:https://www.diocesidiroma.it/event/in-campidoglio-partecipa-alla-presentazione-del-libro-ecologia-della-territorialita/
CATEGORIES:Vicario Generale
END:VEVENT
END:VCALENDAR